BEGIN:VCALENDAR
VERSION:2.0
PRODID:-//The Scene Project - ECPv6.15.20//NONSGML v1.0//EN
CALSCALE:GREGORIAN
METHOD:PUBLISH
X-WR-CALNAME:The Scene Project
X-ORIGINAL-URL:https://thesceneproject.eu
X-WR-CALDESC:Events for The Scene Project
REFRESH-INTERVAL;VALUE=DURATION:PT1H
X-Robots-Tag:noindex
X-PUBLISHED-TTL:PT1H
BEGIN:VTIMEZONE
TZID:UTC
BEGIN:STANDARD
TZOFFSETFROM:+0000
TZOFFSETTO:+0000
TZNAME:UTC
DTSTART:20240101T000000
END:STANDARD
END:VTIMEZONE
BEGIN:VEVENT
DTSTART;TZID=UTC:20251210T140000
DTEND;TZID=UTC:20251210T173000
DTSTAMP:20260422T173202
CREATED:20251202T125334Z
LAST-MODIFIED:20260130T111634Z
UID:2259-1765375200-1765387800@thesceneproject.eu
SUMMARY:Workshop on Future-Proof Filmmaking: Intelligent Tools for Pre-Production & Production
DESCRIPTION:We would like to invite you to the Workshop on Future-Proof Filmmaking of the Horizon Europe project SCENE (GA: 101095303). \nJoin us for an engaging workshop dedicated to innovative tools in cinema! \n📅 Date: 10th December 2025 \n🕔 Time: 14:00 – 17:30 CET – Central European Time (UTC+1) \n📍 Location: Castello Volante\, Corigliano d’Otranto (LE) – Italy (address here) \nRegistration: hereLivestream:  here \nThe workshop will introduce the SCENE project\, dedicated to innovative solutions for filmmaking\, and will showcase interesting insights of four tools designed to support the pre-production and production phases. \n———————————————————————————————————————– \nFor more information on the workshop and agenda please click here. \n———————————————————————————————————————– \n*Please complete the form below to confirm your attendance and mode of it. We look forward to welcoming you and exploring together the tangible results of SCENE!
URL:https://thesceneproject.eu/event/workshop-on-future-proof-filmmaking-intelligent-tools-for-pre-production-production/
CATEGORIES:Pilot News Italy,Project events
ATTACH;FMTTYPE=image/png:https://thesceneproject.eu/wp-content/uploads/2025/12/Workshop_Castello-Vollante.png
END:VEVENT
END:VCALENDAR